BEGIN:VCALENDAR
VERSION:2.0
PRODID:-//Friends of Droxford Church - ECPv6.15.17.1//NONSGML v1.0//EN
CALSCALE:GREGORIAN
METHOD:PUBLISH
X-WR-CALNAME:Friends of Droxford Church
X-ORIGINAL-URL:https://www.friendsofdroxfordchurch.org.uk
X-WR-CALDESC:Events for Friends of Droxford Church
REFRESH-INTERVAL;VALUE=DURATION:PT1H
X-Robots-Tag:noindex
X-PUBLISHED-TTL:PT1H
BEGIN:VTIMEZONE
TZID:Europe/London
BEGIN:DAYLIGHT
TZOFFSETFROM:+0000
TZOFFSETTO:+0100
TZNAME:BST
DTSTART:20250330T010000
END:DAYLIGHT
BEGIN:STANDARD
TZOFFSETFROM:+0100
TZOFFSETTO:+0000
TZNAME:GMT
DTSTART:20251026T010000
END:STANDARD
BEGIN:DAYLIGHT
TZOFFSETFROM:+0000
TZOFFSETTO:+0100
TZNAME:BST
DTSTART:20260329T010000
END:DAYLIGHT
BEGIN:STANDARD
TZOFFSETFROM:+0100
TZOFFSETTO:+0000
TZNAME:GMT
DTSTART:20261025T010000
END:STANDARD
BEGIN:DAYLIGHT
TZOFFSETFROM:+0000
TZOFFSETTO:+0100
TZNAME:BST
DTSTART:20270328T010000
END:DAYLIGHT
BEGIN:STANDARD
TZOFFSETFROM:+0100
TZOFFSETTO:+0000
TZNAME:GMT
DTSTART:20271031T010000
END:STANDARD
END:VTIMEZONE
BEGIN:VEVENT
DTSTART;TZID=Europe/London:20260313T183000
DTEND;TZID=Europe/London:20260313T200000
DTSTAMP:20260423T131250
CREATED:20251004T090523Z
LAST-MODIFIED:20251004T091144Z
UID:24297-1773426600-1773432000@www.friendsofdroxfordchurch.org.uk
SUMMARY:Phil Cleary re-examines the Fall of Tobruk\, a pivotal moment in World War II - Date to TBC
DESCRIPTION:Join us for a presentation that reexamines the fall of Tobruk in June 1942\, a pivotal moment in World War II that tarnished one Field Marshal’s legacy\, Auchinleck\, while elevating another’s\, Rommel. This talk unveils fresh evidence that challenges conventional narratives\, revealing a surprising reason for the loss\, and argues that a reversal in the reputations of these military giants should be considered. Also\, discover how Winston Churchill’s masterful diplomacy in the aftermath not only navigated the crisis but also laid the foundation for the enduring Anglo-American Special Relationship. This lecture offers new insights into a defining moment of the British campaign in the North African desert. \nAbout: \nThe presenter\, Phil Cleary\, recently completed a Master’s in Military History at the University of Birmingham\, with his dissertation\, the subject of his talk\, being awarded a Distinction. Phil is a former police detective and the co-founder and CEO of the international security group\, SmartWater.
URL:https://www.friendsofdroxfordchurch.org.uk/event/phil-cleary-re-examines-the-fall-of-tobruk-a-pivotal-moment-in-world-war-ii-date-to-tbc/
LOCATION:Hampshire
CATEGORIES:FODC Events
ATTACH;FMTTYPE=image/jpeg:https://www.friendsofdroxfordchurch.org.uk/wp-content/uploads/2025/10/Rommel-3.jpg
END:VEVENT
END:VCALENDAR